BEGIN:VCALENDAR
VERSION:2.0
PRODID:-//Northwest Aboriginal Interagency Committees - ECPv6.15.20//NONSGML v1.0//EN
CALSCALE:GREGORIAN
METHOD:PUBLISH
X-WR-CALNAME:Northwest Aboriginal Interagency Committees
X-ORIGINAL-URL:https://northwestaic.com
X-WR-CALDESC:Events for Northwest Aboriginal Interagency Committees
REFRESH-INTERVAL;VALUE=DURATION:PT1H
X-Robots-Tag:noindex
X-PUBLISHED-TTL:PT1H
BEGIN:VTIMEZONE
TZID:UTC
BEGIN:STANDARD
TZOFFSETFROM:+0000
TZOFFSETTO:+0000
TZNAME:UTC
DTSTART:20250101T000000
END:STANDARD
END:VTIMEZONE
BEGIN:VEVENT
DTSTART;TZID=UTC:20260616T093000
DTEND;TZID=UTC:20260616T120000
DTSTAMP:20260422T230115
CREATED:20260301T044356Z
LAST-MODIFIED:20260301T050241Z
UID:2238-1781602200-1781611200@northwestaic.com
SUMMARY:PRAIC Meeting
DESCRIPTION:PRAIC Meeting Information:PRAIC meets on the third Tuesday of each month at 9:30 AM\, from September through June.Meetings are held in person at the Peace River Municipal Library and online via Zoom (email nwaic@outlook.com for zoom link). Everyone is welcome. Attendance is flexible \,join when you can and share as much as you’re able.
URL:https://northwestaic.com/event/praic-meeting-4/
CATEGORIES:Meetings
END:VEVENT
END:VCALENDAR