BEGIN:VCALENDAR
VERSION:2.0
PRODID:-//Northwest Aboriginal Interagency Committees - ECPv6.15.20//NONSGML v1.0//EN
CALSCALE:GREGORIAN
METHOD:PUBLISH
X-ORIGINAL-URL:https://northwestaic.com
X-WR-CALDESC:Events for Northwest Aboriginal Interagency Committees
REFRESH-INTERVAL;VALUE=DURATION:PT1H
X-Robots-Tag:noindex
X-PUBLISHED-TTL:PT1H
BEGIN:VTIMEZONE
TZID:UTC
BEGIN:STANDARD
TZOFFSETFROM:+0000
TZOFFSETTO:+0000
TZNAME:UTC
DTSTART:20250101T000000
END:STANDARD
END:VTIMEZONE
BEGIN:VEVENT
DTSTART;TZID=UTC:20260512T100000
DTEND;TZID=UTC:20260512T170000
DTSTAMP:20260422T160510
CREATED:20260301T050446Z
LAST-MODIFIED:20260301T050915Z
UID:2247-1778580000-1778605200@northwestaic.com
SUMMARY:HPAIC Meeting
DESCRIPTION:HPAIC Meeting Information: \nHPAIC meets on the second Tuesday of each month at 10:00 AM\, from September through June. Meetings are held in person  and online via Zoom (email HPAIC2020@outlook.com for zoom link and meeting location). In person location alternates between High Prairie &  Slave Lake. \nEveryone is welcome. Attendance is flexible \,join when you can and share as much as you’re able
URL:https://northwestaic.com/event/2247/
CATEGORIES:Meetings
END:VEVENT
END:VCALENDAR